BEGIN:VCALENDAR
VERSION:2.0
PRODID:-//Kelli Estes - ECPv6.15.20//NONSGML v1.0//EN
CALSCALE:GREGORIAN
METHOD:PUBLISH
X-WR-CALNAME:Kelli Estes
X-ORIGINAL-URL:https://kelliestes.com
X-WR-CALDESC:Events for Kelli Estes
REFRESH-INTERVAL;VALUE=DURATION:PT1H
X-Robots-Tag:noindex
X-PUBLISHED-TTL:PT1H
BEGIN:VTIMEZONE
TZID:America/Vancouver
BEGIN:DAYLIGHT
TZOFFSETFROM:-0800
TZOFFSETTO:-0700
TZNAME:PDT
DTSTART:20240310T100000
END:DAYLIGHT
BEGIN:STANDARD
TZOFFSETFROM:-0700
TZOFFSETTO:-0800
TZNAME:PST
DTSTART:20241103T090000
END:STANDARD
BEGIN:DAYLIGHT
TZOFFSETFROM:-0800
TZOFFSETTO:-0700
TZNAME:PDT
DTSTART:20250309T100000
END:DAYLIGHT
BEGIN:STANDARD
TZOFFSETFROM:-0700
TZOFFSETTO:-0800
TZNAME:PST
DTSTART:20251102T090000
END:STANDARD
BEGIN:DAYLIGHT
TZOFFSETFROM:-0800
TZOFFSETTO:-0700
TZNAME:PDT
DTSTART:20260308T100000
END:DAYLIGHT
BEGIN:STANDARD
TZOFFSETFROM:-0700
TZOFFSETTO:-0800
TZNAME:PST
DTSTART:20261101T090000
END:STANDARD
END:VTIMEZONE
BEGIN:VEVENT
DTSTART;TZID=America/Vancouver:20250628T180000
DTEND;TZID=America/Vancouver:20250628T200000
DTSTAMP:20260423T202754
CREATED:20250508T194501Z
LAST-MODIFIED:20250515T234635Z
UID:1368-1751133600-1751140800@kelliestes.com
SUMMARY:Smoke on the Wind Launch Party!
DESCRIPTION:You are invited to attend the launch party for Smoke on the Wind! \nJoin us for a special literary evening at Long Shadows Vintners with USA Today bestselling author Kelli Estes\, celebrating the release of her newest novel\, Smoke on the Wind. Set in the majestic Scottish Highlands\, this gripping story follows two mothers separated by centuries and bound by resilience and an unexplainable connection. \nEnjoy an author reading\, book signing\, and audience Q&A\, plus live music featuring a bagpiper and a Scottish fiddler. Books will be available for purchase on site courtesy of Brick & Mortar Books\, an independent bookstore based in Redmond\, WA. \nThis event is complimentary\, but we kindly ask you to RSVP. All ages welcome. \nWine by the glass and bottle will be available for purchase throughout the evening. Don’t miss this unforgettable celebration of storytelling\, history\, and the enduring power of motherhood. \n 
URL:https://kelliestes.com/event/smoke-on-the-wind-launch-party/
LOCATION:Long Shadows Tasting Room\, 14200 NE 145th St.\, Unit C\, Woodinville\, WA\, 98072\, United States
END:VEVENT
BEGIN:VEVENT
DTSTART;VALUE=DATE:20250624
DTEND;VALUE=DATE:20250625
DTSTAMP:20260423T202754
CREATED:20250308T231242Z
LAST-MODIFIED:20250308T231242Z
UID:1216-1750723200-1750809599@kelliestes.com
SUMMARY:Smoke on the Wind is available!
DESCRIPTION:
URL:https://kelliestes.com/event/smoke-on-the-wind-is-available/
END:VEVENT
BEGIN:VEVENT
DTSTART;TZID=America/Vancouver:20250608T110000
DTEND;TZID=America/Vancouver:20250608T120000
DTSTAMP:20260423T202754
CREATED:20250508T193755Z
LAST-MODIFIED:20250508T193755Z
UID:1366-1749380400-1749384000@kelliestes.com
SUMMARY:What's New in Historical Fiction online event
DESCRIPTION:Join us at History Through Fiction as we discuss what’s new in historical fiction\, chat about our books\, and whatever else comes up! \nAuthors: \n\nKelli Estes\, Smoke on the Wind\nSusan Wiggs\, Wayward Girls\nHazel Gaynor\, Before Dorothy\nKristina McMorris\, The Girls of Good Fortune\n\nRegister for the event here:  https://www.eventbrite.com/e/1354941178539?aff=oddtdtcreator
URL:https://kelliestes.com/event/whats-new-in-historical-fiction-online-event/
END:VEVENT
END:VCALENDAR