BEGIN:VCALENDAR
VERSION:2.0
PRODID:-//Kelli Estes - ECPv6.15.20//NONSGML v1.0//EN
CALSCALE:GREGORIAN
METHOD:PUBLISH
X-WR-CALNAME:Kelli Estes
X-ORIGINAL-URL:https://kelliestes.com
X-WR-CALDESC:Events for Kelli Estes
REFRESH-INTERVAL;VALUE=DURATION:PT1H
X-Robots-Tag:noindex
X-PUBLISHED-TTL:PT1H
BEGIN:VTIMEZONE
TZID:America/Vancouver
BEGIN:DAYLIGHT
TZOFFSETFROM:-0800
TZOFFSETTO:-0700
TZNAME:PDT
DTSTART:20240310T100000
END:DAYLIGHT
BEGIN:STANDARD
TZOFFSETFROM:-0700
TZOFFSETTO:-0800
TZNAME:PST
DTSTART:20241103T090000
END:STANDARD
BEGIN:DAYLIGHT
TZOFFSETFROM:-0800
TZOFFSETTO:-0700
TZNAME:PDT
DTSTART:20250309T100000
END:DAYLIGHT
BEGIN:STANDARD
TZOFFSETFROM:-0700
TZOFFSETTO:-0800
TZNAME:PST
DTSTART:20251102T090000
END:STANDARD
BEGIN:DAYLIGHT
TZOFFSETFROM:-0800
TZOFFSETTO:-0700
TZNAME:PDT
DTSTART:20260308T100000
END:DAYLIGHT
BEGIN:STANDARD
TZOFFSETFROM:-0700
TZOFFSETTO:-0800
TZNAME:PST
DTSTART:20261101T090000
END:STANDARD
END:VTIMEZONE
BEGIN:VEVENT
DTSTART;VALUE=DATE:20250912
DTEND;VALUE=DATE:20250915
DTSTAMP:20260423T175633
CREATED:20250723T194359Z
LAST-MODIFIED:20250723T194359Z
UID:1587-1757635200-1757894399@kelliestes.com
SUMMARY:PNWA Annual Writers Conference
DESCRIPTION:I’ll be at the Pacific Northwest Writers Association annual conference\, open only to conference attendees\, teaching/speaking at the following events: \n\nFriday\, September 12\, 11:30am-1pm: Moveable Bookfeast\, Key Elements in a Women’s Fiction. Grand Ballroom 2 & 3.\nFriday\, September 12\, 7-9:30pm: PNWA Dinner Theater Panel: Journey from Book to Screenplay to the Screen. Grand Ballroom 2.\nSaturday\, September 13\, 11:30am-12:30pm: Workshop: Doing Your Future Author Self a Favor. Evergreen 4.
URL:https://kelliestes.com/event/pnwa-annual-writers-conference/
LOCATION:Double Tree by Hilton Seattle Airport\, 18740 International Blvd.\, SeaTac\, WA\, 98188\, United States
END:VEVENT
BEGIN:VEVENT
DTSTART;TZID=America/Vancouver:20250913T163000
DTEND;TZID=America/Vancouver:20250913T180000
DTSTAMP:20260423T175633
CREATED:20250723T193721Z
LAST-MODIFIED:20250723T193721Z
UID:1580-1757781000-1757786400@kelliestes.com
SUMMARY:Autograph Party - open to the public
DESCRIPTION:I’ll be signing my books at the Autograph Party that is part of the Pacific Northwest Writers Association annual conference. The book signing is open to the public — all are welcome to stop in\, buy books from authors in attendance\, and get them signed! I’d love to see you there!
URL:https://kelliestes.com/event/autograph-party-open-to-the-public/
LOCATION:Double Tree by Hilton Seattle Airport\, 18740 International Blvd.\, SeaTac\, WA\, 98188\, United States
END:VEVENT
END:VCALENDAR