BEGIN:VCALENDAR
VERSION:2.0
PRODID:-//Kelli Estes - ECPv6.15.20//NONSGML v1.0//EN
CALSCALE:GREGORIAN
METHOD:PUBLISH
X-ORIGINAL-URL:https://kelliestes.com
X-WR-CALDESC:Events for Kelli Estes
REFRESH-INTERVAL;VALUE=DURATION:PT1H
X-Robots-Tag:noindex
X-PUBLISHED-TTL:PT1H
BEGIN:VTIMEZONE
TZID:America/Vancouver
BEGIN:DAYLIGHT
TZOFFSETFROM:-0800
TZOFFSETTO:-0700
TZNAME:PDT
DTSTART:20240310T100000
END:DAYLIGHT
BEGIN:STANDARD
TZOFFSETFROM:-0700
TZOFFSETTO:-0800
TZNAME:PST
DTSTART:20241103T090000
END:STANDARD
BEGIN:DAYLIGHT
TZOFFSETFROM:-0800
TZOFFSETTO:-0700
TZNAME:PDT
DTSTART:20250309T100000
END:DAYLIGHT
BEGIN:STANDARD
TZOFFSETFROM:-0700
TZOFFSETTO:-0800
TZNAME:PST
DTSTART:20251102T090000
END:STANDARD
BEGIN:DAYLIGHT
TZOFFSETFROM:-0800
TZOFFSETTO:-0700
TZNAME:PDT
DTSTART:20260308T100000
END:DAYLIGHT
BEGIN:STANDARD
TZOFFSETFROM:-0700
TZOFFSETTO:-0800
TZNAME:PST
DTSTART:20261101T090000
END:STANDARD
END:VTIMEZONE
BEGIN:VEVENT
DTSTART;TZID=America/Vancouver:20251108T140000
DTEND;TZID=America/Vancouver:20251108T160000
DTSTAMP:20260423T151610
CREATED:20251003T034407Z
LAST-MODIFIED:20251003T034407Z
UID:1626-1762610400-1762617600@kelliestes.com
SUMMARY:The Girl Who Wrote in Silk Book Discussion and Signing on Marrowstone Island
DESCRIPTION:Join us for a discussion and author signing of The Girl Who Wrote in Silk.
URL:https://kelliestes.com/event/the-girl-who-wrote-in-silk-book-discussion-and-signing-on-marrowstone-island/
LOCATION:Nordland General Store\, 7180 Flagler Road\, Nordland\, 98358\, United States
END:VEVENT
BEGIN:VEVENT
DTSTART;TZID=America/Vancouver:20251109T120000
DTEND;TZID=America/Vancouver:20251109T150000
DTSTAMP:20260423T151610
CREATED:20250922T214743Z
LAST-MODIFIED:20250922T214948Z
UID:1621-1762689600-1762700400@kelliestes.com
SUMMARY:Tea Flight and Book Signing with Two Local Authors!
DESCRIPTION:
URL:https://kelliestes.com/event/tea-flight-and-book-signing-with-two-local-authors/
LOCATION:LizzyKate Tea Shop\, 115 Kirkland Ave.\, Kirkland\, WA\, 98033\, United States
END:VEVENT
END:VCALENDAR